BEGIN:VCALENDAR
VERSION:2.0
PRODID:-//Tukios.com/
BEGIN:VEVENT
UID:bceea4c8-f98b-42ff-8944-b212fada1aeb@www.heflebowerfuneralservices.com
DTSTAMP:20260424T010401Z
DTSTART:20260519T190000Z
DTEND:20260519T200000Z
SUMMARY:Celebration of Life
DESCRIPTION:
URL:https://www.heflebowerfuneralservices.com/obituaries/carol-bullis
LOCATION:The Dixon Chapel at Cherry Hills Community Church 3900 Grace 
	Boulevard  Highlands Ranch CO 80126
GEO:39.5372756;-104.9454562
END:VEVENT
END:VCALENDAR